BEGIN:VCALENDAR
VERSION:2.0
PRODID:-//Corpus Christi Catholic Church, Piedmont - ECPv6.15.17.1//NONSGML v1.0//EN
CALSCALE:GREGORIAN
METHOD:PUBLISH
X-WR-CALNAME:Corpus Christi Catholic Church, Piedmont
X-ORIGINAL-URL:https://corpuschristipiedmont.org
X-WR-CALDESC:Events for Corpus Christi Catholic Church, Piedmont
REFRESH-INTERVAL;VALUE=DURATION:PT1H
X-Robots-Tag:noindex
X-PUBLISHED-TTL:PT1H
BEGIN:VTIMEZONE
TZID:America/Los_Angeles
BEGIN:DAYLIGHT
TZOFFSETFROM:-0800
TZOFFSETTO:-0700
TZNAME:PDT
DTSTART:20220313T100000
END:DAYLIGHT
BEGIN:STANDARD
TZOFFSETFROM:-0700
TZOFFSETTO:-0800
TZNAME:PST
DTSTART:20221106T090000
END:STANDARD
BEGIN:DAYLIGHT
TZOFFSETFROM:-0800
TZOFFSETTO:-0700
TZNAME:PDT
DTSTART:20230312T100000
END:DAYLIGHT
BEGIN:STANDARD
TZOFFSETFROM:-0700
TZOFFSETTO:-0800
TZNAME:PST
DTSTART:20231105T090000
END:STANDARD
BEGIN:DAYLIGHT
TZOFFSETFROM:-0800
TZOFFSETTO:-0700
TZNAME:PDT
DTSTART:20240310T100000
END:DAYLIGHT
BEGIN:STANDARD
TZOFFSETFROM:-0700
TZOFFSETTO:-0800
TZNAME:PST
DTSTART:20241103T090000
END:STANDARD
END:VTIMEZONE
BEGIN:VEVENT
DTSTART;TZID=America/Los_Angeles:20230211T163000
DTEND;TZID=America/Los_Angeles:20230211T173000
DTSTAMP:20260419T121414
CREATED:20221216T080639Z
LAST-MODIFIED:20230107T082455Z
UID:14125-1676133000-1676136600@corpuschristipiedmont.org
SUMMARY:Saturday Vigil Mass
DESCRIPTION:Vigil not at usual 5pm because of the Crab Feed
URL:https://corpuschristipiedmont.org/event/saturday-vigil-mass/
LOCATION:Corpus Christi Church\, 322 St. James Drive\, Piedmont\, CA\, 94611\, United States
END:VEVENT
BEGIN:VEVENT
DTSTART;TZID=America/Los_Angeles:20230211T173000
DTEND;TZID=America/Los_Angeles:20230211T235900
DTSTAMP:20260419T121414
CREATED:20221216T094749Z
LAST-MODIFIED:20230129T183731Z
UID:14012-1676136600-1676159940@corpuschristipiedmont.org
SUMMARY:60th Annual Crab Feed & Auction
DESCRIPTION:Mark your calendars and register quickly so you don’t miss out on the event of the year! The Corpus Christi Men’s Club welcomes everyone to the 60th Annual Crab Feed & Auction. This amazing event will take place on Saturday\, February 11th\, and includes a classy 60’s themed extravaganza. The event will open at 5:30 p.m. with Silent Auction items and appetizers available. The formal Dinner will begin at 7:30 p.m.\, and this year you have several dining options to select from: the Sit-Down Dinner in the School Auditorium will be filled with entertainment\, an unforgettable live auction and don’t forget the endless crab! Or\, you can opt for the take-home option\, the “Crab & Go\,” which is a fun way to dining and will be available for pick-up the day of the event\, between 2:00 and 4:00 p.m. on the School blacktop. And back by popular demand\, you can join Fr. Leo and Principal Sahlman for a Candlelight Dinner in the Gibson Center\, where you can dine in a quieter and more relaxed environment with great conversation\, and wonderful food and cheer. \nThe event prices are: $90.00 for the Sit-Down Dinner in the Auditorium\n$65.00 and $125.00 for varying Crab & Go packages\n$80.00 for the Candlelight Dinner. \nFor more information\, please contact the Men’s Club at:\ncrabfeed@ccpg.corpuschristischool.com. Order your tickets now at: ccfeed.org \nThe Corpus Christi Men’s Club looks forward to seeing you there! \nMore details at ccfeed.org
URL:https://corpuschristipiedmont.org/event/60th-annual-crab-feed-auction/
LOCATION:Corpus Christi School\, 1 Estates Drive\, Piedmont \, CA\, 94611\, United States
END:VEVENT
END:VCALENDAR