BEGIN:VCALENDAR
VERSION:2.0
PRODID:-//Corpus Christi Catholic Church, Piedmont - ECPv6.15.17.1//NONSGML v1.0//EN
CALSCALE:GREGORIAN
METHOD:PUBLISH
X-ORIGINAL-URL:https://corpuschristipiedmont.org
X-WR-CALDESC:Events for Corpus Christi Catholic Church, Piedmont
REFRESH-INTERVAL;VALUE=DURATION:PT1H
X-Robots-Tag:noindex
X-PUBLISHED-TTL:PT1H
BEGIN:VTIMEZONE
TZID:America/Los_Angeles
BEGIN:DAYLIGHT
TZOFFSETFROM:-0800
TZOFFSETTO:-0700
TZNAME:PDT
DTSTART:20220313T100000
END:DAYLIGHT
BEGIN:STANDARD
TZOFFSETFROM:-0700
TZOFFSETTO:-0800
TZNAME:PST
DTSTART:20221106T090000
END:STANDARD
BEGIN:DAYLIGHT
TZOFFSETFROM:-0800
TZOFFSETTO:-0700
TZNAME:PDT
DTSTART:20230312T100000
END:DAYLIGHT
BEGIN:STANDARD
TZOFFSETFROM:-0700
TZOFFSETTO:-0800
TZNAME:PST
DTSTART:20231105T090000
END:STANDARD
BEGIN:DAYLIGHT
TZOFFSETFROM:-0800
TZOFFSETTO:-0700
TZNAME:PDT
DTSTART:20240310T100000
END:DAYLIGHT
BEGIN:STANDARD
TZOFFSETFROM:-0700
TZOFFSETTO:-0800
TZNAME:PST
DTSTART:20241103T090000
END:STANDARD
END:VTIMEZONE
BEGIN:VEVENT
DTSTART;TZID=America/Los_Angeles:20230312T090000
DTEND;TZID=America/Los_Angeles:20230312T101500
DTSTAMP:20260419T102737
CREATED:20230111T070716Z
LAST-MODIFIED:20230311T070830Z
UID:14468-1678611600-1678616100@corpuschristipiedmont.org
SUMMARY:Family Faith Formation ~ Family Session
DESCRIPTION:Family Session: Getting Ready for Lent! \n\nIn the School Gym 
URL:https://corpuschristipiedmont.org/event/family-faith-formation-family-session/
LOCATION:Corpus Christi School\, 1 Estates Drive\, Piedmont \, CA\, 94611\, United States
CATEGORIES:Family Faith Formation
END:VEVENT
BEGIN:VEVENT
DTSTART;TZID=America/Los_Angeles:20230312T091500
DTEND;TZID=America/Los_Angeles:20230312T101500
DTSTAMP:20260419T102737
CREATED:20230311T053527Z
LAST-MODIFIED:20230311T065444Z
UID:14431-1678612500-1678616100@corpuschristipiedmont.org
SUMMARY:'Return to the Lord' Small Group Discussion
DESCRIPTION:Conference Room in the Rectory
URL:https://corpuschristipiedmont.org/event/return-to-the-lord-small-group-discussion-5/
LOCATION:Rectory\, 322 St James Drive\, Piedmont\, CA\, 94611\, United States
CATEGORIES:Lent 2023
END:VEVENT
END:VCALENDAR