BEGIN:VCALENDAR
VERSION:2.0
PRODID:-//Corpus Christi Catholic Church, Piedmont - ECPv6.15.17.1//NONSGML v1.0//EN
CALSCALE:GREGORIAN
METHOD:PUBLISH
X-WR-CALNAME:Corpus Christi Catholic Church, Piedmont
X-ORIGINAL-URL:https://corpuschristipiedmont.org
X-WR-CALDESC:Events for Corpus Christi Catholic Church, Piedmont
REFRESH-INTERVAL;VALUE=DURATION:PT1H
X-Robots-Tag:noindex
X-PUBLISHED-TTL:PT1H
BEGIN:VTIMEZONE
TZID:America/Los_Angeles
BEGIN:DAYLIGHT
TZOFFSETFROM:-0800
TZOFFSETTO:-0700
TZNAME:PDT
DTSTART:20250309T100000
END:DAYLIGHT
BEGIN:STANDARD
TZOFFSETFROM:-0700
TZOFFSETTO:-0800
TZNAME:PST
DTSTART:20251102T090000
END:STANDARD
BEGIN:DAYLIGHT
TZOFFSETFROM:-0800
TZOFFSETTO:-0700
TZNAME:PDT
DTSTART:20260308T100000
END:DAYLIGHT
BEGIN:STANDARD
TZOFFSETFROM:-0700
TZOFFSETTO:-0800
TZNAME:PST
DTSTART:20261101T090000
END:STANDARD
BEGIN:DAYLIGHT
TZOFFSETFROM:-0800
TZOFFSETTO:-0700
TZNAME:PDT
DTSTART:20270314T100000
END:DAYLIGHT
BEGIN:STANDARD
TZOFFSETFROM:-0700
TZOFFSETTO:-0800
TZNAME:PST
DTSTART:20271107T090000
END:STANDARD
END:VTIMEZONE
BEGIN:VEVENT
DTSTART;TZID=America/Los_Angeles:20260419T090000
DTEND;TZID=America/Los_Angeles:20260419T101500
DTSTAMP:20260421T015411
CREATED:20260121T062626Z
LAST-MODIFIED:20260330T062702Z
UID:21047-1776589200-1776593700@corpuschristipiedmont.org
SUMMARY:Family Faith Formation: Workshop 6
DESCRIPTION:
URL:https://corpuschristipiedmont.org/event/family-faith-formation-workshop-6/
LOCATION:CA
END:VEVENT
BEGIN:VEVENT
DTSTART;TZID=America/Los_Angeles:20260419T103000
DTEND;TZID=America/Los_Angeles:20260419T120000
DTSTAMP:20260421T015411
CREATED:20260121T062707Z
LAST-MODIFIED:20260330T062858Z
UID:21050-1776594600-1776600000@corpuschristipiedmont.org
SUMMARY:First Communion Prep 5
DESCRIPTION:After we’ve received communion\, then what? We will discuss the sending rites and what Communion means for our lives as Christians.
URL:https://corpuschristipiedmont.org/event/first-communion-prep-5-2/
LOCATION:CA
END:VEVENT
BEGIN:VEVENT
DTSTART;TZID=America/Los_Angeles:20260419T112000
DTEND;TZID=America/Los_Angeles:20260419T123000
DTSTAMP:20260421T015411
CREATED:20260413T061933Z
LAST-MODIFIED:20260413T064446Z
UID:21137-1776597600-1776601800@corpuschristipiedmont.org
SUMMARY:Family Circle: Juice Box Mixer
DESCRIPTION:Family Circle is a community for families with young children (babies through school-age) \nJoin other parents for connection\, conversation\, and shared experience in the early years of life following the 10:30am Mass.\nClick here to get connected.
URL:https://corpuschristipiedmont.org/event/family-circle-juice-box-mixer/
LOCATION:CA
END:VEVENT
BEGIN:VEVENT
DTSTART;TZID=America/Los_Angeles:20260419T113000
DTEND;TZID=America/Los_Angeles:20260419T123000
DTSTAMP:20260421T015411
CREATED:20260215T081526Z
LAST-MODIFIED:20260327T230139Z
UID:20666-1776598200-1776601800@corpuschristipiedmont.org
SUMMARY:OCIA Meeting
DESCRIPTION:After the 10:30am Mass in the Rectory
URL:https://corpuschristipiedmont.org/event/rcia-meeting-19/
LOCATION:CA
END:VEVENT
END:VCALENDAR