BEGIN:VCALENDAR
VERSION:2.0
PRODID:-//Corpus Christi Catholic Church, Piedmont - ECPv6.15.17.1//NONSGML v1.0//EN
CALSCALE:GREGORIAN
METHOD:PUBLISH
X-ORIGINAL-URL:https://corpuschristipiedmont.org
X-WR-CALDESC:Events for Corpus Christi Catholic Church, Piedmont
REFRESH-INTERVAL;VALUE=DURATION:PT1H
X-Robots-Tag:noindex
X-PUBLISHED-TTL:PT1H
BEGIN:VTIMEZONE
TZID:America/Los_Angeles
BEGIN:DAYLIGHT
TZOFFSETFROM:-0800
TZOFFSETTO:-0700
TZNAME:PDT
DTSTART:20220313T100000
END:DAYLIGHT
BEGIN:STANDARD
TZOFFSETFROM:-0700
TZOFFSETTO:-0800
TZNAME:PST
DTSTART:20221106T090000
END:STANDARD
BEGIN:DAYLIGHT
TZOFFSETFROM:-0800
TZOFFSETTO:-0700
TZNAME:PDT
DTSTART:20230312T100000
END:DAYLIGHT
BEGIN:STANDARD
TZOFFSETFROM:-0700
TZOFFSETTO:-0800
TZNAME:PST
DTSTART:20231105T090000
END:STANDARD
BEGIN:DAYLIGHT
TZOFFSETFROM:-0800
TZOFFSETTO:-0700
TZNAME:PDT
DTSTART:20240310T100000
END:DAYLIGHT
BEGIN:STANDARD
TZOFFSETFROM:-0700
TZOFFSETTO:-0800
TZNAME:PST
DTSTART:20241103T090000
END:STANDARD
END:VTIMEZONE
BEGIN:VEVENT
DTSTART;VALUE=DATE:20230101
DTEND;VALUE=DATE:20230102
DTSTAMP:20260419T121451
CREATED:20221215T090410Z
LAST-MODIFIED:20221215T090440Z
UID:13980-1672531200-1672617599@corpuschristipiedmont.org
SUMMARY:New Year's Day Mass (8:00am & 10:30am)
DESCRIPTION:
URL:https://corpuschristipiedmont.org/event/new-years-day-mass-800am-1030am/
LOCATION:Corpus Christi Church\, 322 St. James Drive\, Piedmont\, CA\, 94611\, United States
END:VEVENT
BEGIN:VEVENT
DTSTART;TZID=America/Los_Angeles:20230108T090000
DTEND;TZID=America/Los_Angeles:20230108T101500
DTSTAMP:20260419T121451
CREATED:20230107T012037Z
LAST-MODIFIED:20230107T082110Z
UID:14087-1673168400-1673172900@corpuschristipiedmont.org
SUMMARY:Faith Formation Family Session: Eucharist
DESCRIPTION:
URL:https://corpuschristipiedmont.org/event/family-faith-formation-eucharist-family-session/
LOCATION:Corpus Christi School\, 1 Estates Drive\, Piedmont \, CA\, 94611\, United States
CATEGORIES:Family Faith Formation
END:VEVENT
BEGIN:VEVENT
DTSTART;TZID=America/Los_Angeles:20230112T180000
DTEND;TZID=America/Los_Angeles:20230112T190000
DTSTAMP:20260419T121451
CREATED:20230107T063256Z
LAST-MODIFIED:20230107T063256Z
UID:14098-1673546400-1673550000@corpuschristipiedmont.org
SUMMARY:Jr High Session
DESCRIPTION:
URL:https://corpuschristipiedmont.org/event/jr-high-session/
LOCATION:Gibson Center\, 322 St. James Drive\, Piedmont\, CA\, 94611\, United States
END:VEVENT
BEGIN:VEVENT
DTSTART;TZID=America/Los_Angeles:20230122T090000
DTEND;TZID=America/Los_Angeles:20230122T101500
DTSTAMP:20260419T121451
CREATED:20221007T012224Z
LAST-MODIFIED:20230107T082039Z
UID:14090-1674378000-1674382500@corpuschristipiedmont.org
SUMMARY:Faith Formation: Workshops
DESCRIPTION:Communion Prep 1 – Learning Mass
URL:https://corpuschristipiedmont.org/event/family-faith-formation-workshops/
LOCATION:Corpus Christi School\, 1 Estates Drive\, Piedmont \, CA\, 94611\, United States
END:VEVENT
BEGIN:VEVENT
DTSTART;TZID=America/Los_Angeles:20230129T090000
DTEND;TZID=America/Los_Angeles:20230129T101500
DTSTAMP:20260419T121451
CREATED:20230107T064908Z
LAST-MODIFIED:20230107T065048Z
UID:14112-1674982800-1674987300@corpuschristipiedmont.org
SUMMARY:Faith Formation: Workshops
DESCRIPTION:Communion Prep 2 – Gathering
URL:https://corpuschristipiedmont.org/event/faith-formation-workshops/
LOCATION:Corpus Christi School\, 1 Estates Drive\, Piedmont \, CA\, 94611\, United States
END:VEVENT
END:VCALENDAR