BEGIN:VCALENDAR
VERSION:2.0
PRODID:-//Corpus Christi Catholic Church, Piedmont - ECPv6.15.17.1//NONSGML v1.0//EN
CALSCALE:GREGORIAN
METHOD:PUBLISH
X-ORIGINAL-URL:https://corpuschristipiedmont.org
X-WR-CALDESC:Events for Corpus Christi Catholic Church, Piedmont
REFRESH-INTERVAL;VALUE=DURATION:PT1H
X-Robots-Tag:noindex
X-PUBLISHED-TTL:PT1H
BEGIN:VTIMEZONE
TZID:America/Los_Angeles
BEGIN:DAYLIGHT
TZOFFSETFROM:-0800
TZOFFSETTO:-0700
TZNAME:PDT
DTSTART:20220313T100000
END:DAYLIGHT
BEGIN:STANDARD
TZOFFSETFROM:-0700
TZOFFSETTO:-0800
TZNAME:PST
DTSTART:20221106T090000
END:STANDARD
BEGIN:DAYLIGHT
TZOFFSETFROM:-0800
TZOFFSETTO:-0700
TZNAME:PDT
DTSTART:20230312T100000
END:DAYLIGHT
BEGIN:STANDARD
TZOFFSETFROM:-0700
TZOFFSETTO:-0800
TZNAME:PST
DTSTART:20231105T090000
END:STANDARD
BEGIN:DAYLIGHT
TZOFFSETFROM:-0800
TZOFFSETTO:-0700
TZNAME:PDT
DTSTART:20240310T100000
END:DAYLIGHT
BEGIN:STANDARD
TZOFFSETFROM:-0700
TZOFFSETTO:-0800
TZNAME:PST
DTSTART:20241103T090000
END:STANDARD
END:VTIMEZONE
BEGIN:VEVENT
DTSTART;TZID=America/Los_Angeles:20230301T190000
DTEND;TZID=America/Los_Angeles:20230301T200000
DTSTAMP:20260419T084300
CREATED:20230222T154009Z
LAST-MODIFIED:20230222T154009Z
UID:14333-1677697200-1677700800@corpuschristipiedmont.org
SUMMARY:Interfaith Gathering
DESCRIPTION:
URL:https://corpuschristipiedmont.org/event/interfaith-gathering/
LOCATION:Saint Paul’s Lutheran Church\, 1658 Excelsior Ave\, Oakland\, CA\, 94602\, United States
CATEGORIES:Lent 2023
END:VEVENT
BEGIN:VEVENT
DTSTART;TZID=America/Los_Angeles:20230302T190000
DTEND;TZID=America/Los_Angeles:20230302T200000
DTSTAMP:20260419T084300
CREATED:20230222T154412Z
LAST-MODIFIED:20230222T154412Z
UID:14339-1677783600-1677787200@corpuschristipiedmont.org
SUMMARY:Reflections on the Lectionary Readings
DESCRIPTION:Reflections on the Lectionary Readings for the Second Sunday of Lent with Fr. Leo \nZoom: (Meeting ID 441 496 9958) (Passcode 272827) \nhttps://bible.usccb.org \n 
URL:https://corpuschristipiedmont.org/event/reflections-on-the-lectionary-readings-2/
CATEGORIES:Lent 2023
END:VEVENT
BEGIN:VEVENT
DTSTART;TZID=America/Los_Angeles:20230303T190000
DTEND;TZID=America/Los_Angeles:20230303T193000
DTSTAMP:20260419T084300
CREATED:20230222T154527Z
LAST-MODIFIED:20230222T154527Z
UID:14342-1677870000-1677871800@corpuschristipiedmont.org
SUMMARY:Stations of the Cross
DESCRIPTION:
URL:https://corpuschristipiedmont.org/event/stations-of-the-cross-2/
LOCATION:Corpus Christi Church\, 322 St. James Drive\, Piedmont\, CA\, 94611\, United States
CATEGORIES:Lent 2023
END:VEVENT
BEGIN:VEVENT
DTSTART;TZID=America/Los_Angeles:20230305T091500
DTEND;TZID=America/Los_Angeles:20230305T101500
DTSTAMP:20260419T084300
CREATED:20230301T074829Z
LAST-MODIFIED:20230301T194001Z
UID:14373-1678007700-1678011300@corpuschristipiedmont.org
SUMMARY:'Return to the Lord' Small Group Discussion
DESCRIPTION:Conference Room in the Rectory
URL:https://corpuschristipiedmont.org/event/return-to-the-lord-small-group-discussion-3/
LOCATION:Rectory\, 322 St James Drive\, Piedmont\, CA\, 94611\, United States
CATEGORIES:Lent 2023
END:VEVENT
BEGIN:VEVENT
DTSTART;TZID=America/Los_Angeles:20230306T190000
DTEND;TZID=America/Los_Angeles:20230306T200000
DTSTAMP:20260419T084300
CREATED:20230301T075226Z
LAST-MODIFIED:20230301T195216Z
UID:14376-1678129200-1678132800@corpuschristipiedmont.org
SUMMARY:Taizé Music and Meditation
DESCRIPTION:
URL:https://corpuschristipiedmont.org/event/taizemusicandmeditation/
LOCATION:Corpus Christi Church\, 322 St. James Drive\, Piedmont\, CA\, 94611\, United States
CATEGORIES:Lent 2023
END:VEVENT
BEGIN:VEVENT
DTSTART;TZID=America/Los_Angeles:20230307T190000
DTEND;TZID=America/Los_Angeles:20230307T200000
DTSTAMP:20260419T084300
CREATED:20230301T194541Z
LAST-MODIFIED:20230301T195119Z
UID:14406-1678215600-1678219200@corpuschristipiedmont.org
SUMMARY:‘Return to the Lord’ Small Group Discussion
DESCRIPTION:Zoom: (Meeting ID 209 329 1984Y) (Passcode 780003) \n\nOr Contact John Claassen for link: john@pjclaassen.com
URL:https://corpuschristipiedmont.org/event/return-to-the-lord-small-group-discussion-4/
CATEGORIES:Lent 2023
END:VEVENT
BEGIN:VEVENT
DTSTART;TZID=America/Los_Angeles:20230308T190000
DTEND;TZID=America/Los_Angeles:20230308T200000
DTSTAMP:20260419T084300
CREATED:20230301T080111Z
LAST-MODIFIED:20230301T080133Z
UID:14379-1678302000-1678305600@corpuschristipiedmont.org
SUMMARY:Interfaith Gathering
DESCRIPTION:
URL:https://corpuschristipiedmont.org/event/interfaith-gathering-2/
LOCATION:Saint John’s Episcopal Church\, 1707 Gouldin Road\, Oakland\, CA\, 94611\, United States
CATEGORIES:Lent 2023
END:VEVENT
BEGIN:VEVENT
DTSTART;TZID=America/Los_Angeles:20230309T190000
DTEND;TZID=America/Los_Angeles:20230309T200000
DTSTAMP:20260419T084300
CREATED:20230301T194958Z
LAST-MODIFIED:20230311T064304Z
UID:14413-1678388400-1678392000@corpuschristipiedmont.org
SUMMARY:Reflections on the Lectionary Readings
DESCRIPTION:Reflections on the Lectionary Readings for\nthe Third Sunday of Lent with Fr. Leo \nZoom: (Meeting ID 441 496 9958)\n(Passcode 272827) https://bible.usccb.org
URL:https://corpuschristipiedmont.org/event/reflections-on-the-lectionary-readings-3/
CATEGORIES:Lent 2023
END:VEVENT
BEGIN:VEVENT
DTSTART;TZID=America/Los_Angeles:20230310T190000
DTEND;TZID=America/Los_Angeles:20230310T193000
DTSTAMP:20260419T084300
CREATED:20230301T194658Z
LAST-MODIFIED:20230301T194658Z
UID:14410-1678474800-1678476600@corpuschristipiedmont.org
SUMMARY:Stations of the Cross
DESCRIPTION:
URL:https://corpuschristipiedmont.org/event/stations-of-the-cross-3/
LOCATION:Corpus Christi Church\, 322 St. James Drive\, Piedmont\, CA\, 94611\, United States
CATEGORIES:Lent 2023
END:VEVENT
BEGIN:VEVENT
DTSTART;TZID=America/Los_Angeles:20230312T090000
DTEND;TZID=America/Los_Angeles:20230312T101500
DTSTAMP:20260419T084300
CREATED:20230111T070716Z
LAST-MODIFIED:20230311T070830Z
UID:14468-1678611600-1678616100@corpuschristipiedmont.org
SUMMARY:Family Faith Formation ~ Family Session
DESCRIPTION:Family Session: Getting Ready for Lent! \n\nIn the School Gym 
URL:https://corpuschristipiedmont.org/event/family-faith-formation-family-session/
LOCATION:Corpus Christi School\, 1 Estates Drive\, Piedmont \, CA\, 94611\, United States
CATEGORIES:Family Faith Formation
END:VEVENT
BEGIN:VEVENT
DTSTART;TZID=America/Los_Angeles:20230312T091500
DTEND;TZID=America/Los_Angeles:20230312T101500
DTSTAMP:20260419T084300
CREATED:20230311T053527Z
LAST-MODIFIED:20230311T065444Z
UID:14431-1678612500-1678616100@corpuschristipiedmont.org
SUMMARY:'Return to the Lord' Small Group Discussion
DESCRIPTION:Conference Room in the Rectory
URL:https://corpuschristipiedmont.org/event/return-to-the-lord-small-group-discussion-5/
LOCATION:Rectory\, 322 St James Drive\, Piedmont\, CA\, 94611\, United States
CATEGORIES:Lent 2023
END:VEVENT
BEGIN:VEVENT
DTSTART;TZID=America/Los_Angeles:20230313T190000
DTEND;TZID=America/Los_Angeles:20230313T194500
DTSTAMP:20260419T084300
CREATED:20230311T063445Z
LAST-MODIFIED:20230311T064013Z
UID:14453-1678734000-1678736700@corpuschristipiedmont.org
SUMMARY:Sacrament of Reconciliation
DESCRIPTION:
URL:https://corpuschristipiedmont.org/event/sacrament-of-reconciliation/
LOCATION:Corpus Christi Church\, 322 St. James Drive\, Piedmont\, CA\, 94611\, United States
CATEGORIES:Lent 2023
END:VEVENT
BEGIN:VEVENT
DTSTART;TZID=America/Los_Angeles:20230314T190000
DTEND;TZID=America/Los_Angeles:20230314T200000
DTSTAMP:20260419T084300
CREATED:20230311T054006Z
LAST-MODIFIED:20230311T065238Z
UID:14438-1678820400-1678824000@corpuschristipiedmont.org
SUMMARY:‘Return to the Lord’ Small Group Discussion
DESCRIPTION:Zoom: (Meeting ID 209 329 1984Y) (Passcode 780003) \n\nOr Contact John Claassen for link: john@pjclaassen.com
URL:https://corpuschristipiedmont.org/event/return-to-the-lord-small-group-discussion-6/
CATEGORIES:Lent 2023
END:VEVENT
BEGIN:VEVENT
DTSTART;TZID=America/Los_Angeles:20230315T190000
DTEND;TZID=America/Los_Angeles:20230315T200000
DTSTAMP:20260419T084300
CREATED:20230311T054347Z
LAST-MODIFIED:20230311T064929Z
UID:14442-1678906800-1678910400@corpuschristipiedmont.org
SUMMARY:Interfaith Gathering
DESCRIPTION:at Corpus Christi Catholic Church\n322 St. James Drive\, Piedmont
URL:https://corpuschristipiedmont.org/event/interfaith-gathering-3/
LOCATION:Corpus Christi Church\, 322 St. James Drive\, Piedmont\, CA\, 94611\, United States
CATEGORIES:Lent 2023
END:VEVENT
BEGIN:VEVENT
DTSTART;VALUE=DATE:20230316
DTEND;VALUE=DATE:20230317
DTSTAMP:20260419T084300
CREATED:20230311T063838Z
LAST-MODIFIED:20230312T022956Z
UID:14457-1678924800-1679011199@corpuschristipiedmont.org
SUMMARY:CANCELLED! ~ Reflections on the Lectionary Readings
DESCRIPTION:Zoom meeting cancelled this week. Join us next week.
URL:https://corpuschristipiedmont.org/event/reflections-on-the-lectionary-readings-4/
CATEGORIES:Lent 2023
END:VEVENT
BEGIN:VEVENT
DTSTART;TZID=America/Los_Angeles:20230317T190000
DTEND;TZID=America/Los_Angeles:20230317T193000
DTSTAMP:20260419T084300
CREATED:20230311T063127Z
LAST-MODIFIED:20230311T063232Z
UID:14449-1679079600-1679081400@corpuschristipiedmont.org
SUMMARY:Stations of the Cross
DESCRIPTION:
URL:https://corpuschristipiedmont.org/event/stations-of-the-cross-4/
LOCATION:Corpus Christi Church\, 322 St. James Drive\, Piedmont\, CA\, 94611\, United States
CATEGORIES:Lent 2023
END:VEVENT
BEGIN:VEVENT
DTSTART;TZID=America/Los_Angeles:20230319T090000
DTEND;TZID=America/Los_Angeles:20230319T101500
DTSTAMP:20260419T084300
CREATED:20230111T071200Z
LAST-MODIFIED:20230311T071411Z
UID:14473-1679216400-1679220900@corpuschristipiedmont.org
SUMMARY:Faith Formation: Workshops
DESCRIPTION:
URL:https://corpuschristipiedmont.org/event/faith-formation-workshops-2/
LOCATION:Corpus Christi School\, 1 Estates Drive\, Piedmont \, CA\, 94611\, United States
CATEGORIES:Family Faith Formation
END:VEVENT
BEGIN:VEVENT
DTSTART;TZID=America/Los_Angeles:20230319T103000
DTEND;TZID=America/Los_Angeles:20230319T120000
DTSTAMP:20260419T084300
CREATED:20230311T071850Z
LAST-MODIFIED:20230311T071850Z
UID:14476-1679221800-1679227200@corpuschristipiedmont.org
SUMMARY:First Communion Prep: Sending Forth
DESCRIPTION:In Church & Gym 
URL:https://corpuschristipiedmont.org/event/first-communion-prep-sending-forth/
LOCATION:Corpus Christi Church\, 322 St. James Drive\, Piedmont\, CA\, 94611\, United States
END:VEVENT
BEGIN:VEVENT
DTSTART;TZID=America/Los_Angeles:20230319T190000
DTEND;TZID=America/Los_Angeles:20230319T194500
DTSTAMP:20260419T084300
CREATED:20230301T172051Z
LAST-MODIFIED:20230319T172206Z
UID:14535-1679252400-1679255100@corpuschristipiedmont.org
SUMMARY:Meditation\, Adoration and Benediction
DESCRIPTION:
URL:https://corpuschristipiedmont.org/event/meditation-adoration-and-benediction/
LOCATION:Corpus Christi Church\, 322 St. James Drive\, Piedmont\, CA\, 94611\, United States
CATEGORIES:Lent 2023
END:VEVENT
END:VCALENDAR